BEGIN:VCALENDAR
VERSION:2.0
PRODID:spatie/icalendar-generator
DESCRIPTION:Events from Peninsula Tractor Organization
X-WR-CALDESC:Events from Peninsula Tractor Organization
REFRESH-INTERVAL;VALUE=DURATION:PT1440M
X-PUBLISHED-TTL:PT1440M
BEGIN:VTIMEZONE
TZID:America/New_York
BEGIN:DAYLIGHT
DTSTART:20260308T020000Z
TZOFFSETFROM:-0500
TZOFFSETTO:-0400
END:DAYLIGHT
BEGIN:STANDARD
DTSTART:20261101T020000Z
TZOFFSETFROM:-0400
TZOFFSETTO:-0500
END:STANDARD
END:VTIMEZONE
BEGIN:VTIMEZONE
TZID:UTC
BEGIN:STANDARD
DTSTART:20250727T135106Z
TZOFFSETFROM:+0000
TZOFFSETTO:+0000
END:STANDARD
END:VTIMEZONE
BEGIN:VEVENT
UID:101-50
DTSTAMP:20260423T135106Z
SUMMARY:Regular Meeting
LOCATION:Northampton Fire &amp;amp\; Rescue 10239 Pine Ave.  Nassawadox VA 2341
 3
ORGANIZER;CN=peninsulatractor:MAILTO:laurie@sunsetcovefarm.com
RRULE:FREQ=MONTHLY;BYDAY=2TU;UNTIL=20261208T000000Z
DTSTART;TZID=America/New_York:20260811T190000
DTEND;TZID=America/New_York:20260811T200000
X-ALT-DESC;FMTTYPE=TEXT/HTML:
CATEGORIES:Regular Meetings
URL;VALUE=URI:https://peninsulatractor.org/calendar/?mc_id=101&#038;vcal=10
 1
METHOD:PUBLISH
END:VEVENT
END:VCALENDAR